BEGIN:VCALENDAR
VERSION:2.0
PRODID:-//eventon.com NONSGML v1.0//EN
CALSCALE:GREGORIAN
METHOD:PUBLISH
BEGIN:VEVENT
UID:69e8a0fccc901
DTSTAMP:20260422T102044Z
DTSTART:20220201T000000Z
DTEND:20220201T235000Z
LOCATION:Storeteigen
SUMMARY:Hvileåret: Rest\,  Growth & Activism (Copy)
DESCRIPTION:Hvileåret: Rest\,  Growth and Activism is an 18 month long par
 ticipatory and artistic-research project housed at Storeteigen bygdatun in 
 Øystese developed by Bergen based artist\,  Amber Ablett. It aims to creat
 e a collective space to investigate\,  learn about and question the role of
  rest in growth.  Hvileåret focuses on rest[..]\nhttps://storeteigen.no/e
 vents/hvilearet-rest-growth-activism-copy/
URL:https://storeteigen.no/events/hvilearet-rest-growth-activism-copy/
END:VEVENT
END:VCALENDAR