BEGIN:VCALENDAR
VERSION:2.0
PRODID:-//eventon.com NONSGML v1.0//EN
CALSCALE:GREGORIAN
METHOD:PUBLISH
BEGIN:VEVENT
UID:69e5dfa6f3d75
DTSTAMP:20260420T081118Z
DTSTART:20220101T000000Z
DTEND:20230630T000000Z
LOCATION:Storeteigen
SUMMARY:Hvileåret: Rest\,  Growth & Activism
DESCRIPTION:Hvileåret: Rest\,  Growth and Activism is an 18 month long par
 ticipatory and artistic-research project housed at Storeteigen bygdatun in 
 Øystese developed by Bergen based artist\,  Amber Ablett. It aims to creat
 e a collective space to investigate\,  learn about and question the role of
  rest in growth.  Hvileåret focuses on rest[..]\nhttps://storeteigen.no/e
 vents/amberablett/
URL:https://storeteigen.no/events/amberablett/
END:VEVENT
END:VCALENDAR